BEGIN:VCALENDAR
VERSION:2.0
PRODID:-//wp-events-plugin.com//7.2.3.1//EN
TZID:Europe/Berlin
X-WR-TIMEZONE:Europe/Berlin
BEGIN:VEVENT
UID:62@daniel-lambert.de
DTSTART;TZID=Europe/Berlin:20261119T100000
DTEND;TZID=Europe/Berlin:20261119T150000
DTSTAMP:20251128T193346Z
URL:https://daniel-lambert.de/events/klausur-2-bilanzbuchhalter-internatio
 nal-2/
SUMMARY:Klausur 2 Bilanzbuchhalter International
DESCRIPTION:
ATTACH;FMTTYPE=image/jpeg:https://daniel-lambert.de/wp-content/uploads/202
 5/03/DL_FrauVorMonitorMitInhalt_400x400.jpg
CATEGORIES:Bilanzbuchhalter International
END:VEVENT
BEGIN:VTIMEZONE
TZID:Europe/Berlin
X-LIC-LOCATION:Europe/Berlin
BEGIN:STANDARD
DTSTART:20261025T020000
TZOFFSETFROM:+0200
TZOFFSETTO:+0100
TZNAME:CET
END:STANDARD
END:VTIMEZONE
END:VCALENDAR