BEGIN:VCALENDAR
VERSION:2.0
PRODID:-//wp-events-plugin.com//7.2.3.1//EN
TZID:Europe/Berlin
X-WR-TIMEZONE:Europe/Berlin
BEGIN:VEVENT
UID:85@daniel-lambert.de
DTSTART;TZID=Europe/Berlin:20261017T100000
DTEND;TZID=Europe/Berlin:20261017T160000
DTSTAMP:20251201T092603Z
URL:https://daniel-lambert.de/events/material-produktions-und-absatzwirtsc
 haft-technische-betriebswirte-klausurwebinar-2/
SUMMARY:Material-\, Produktions- und Absatzwirtschaft - Technische Betriebs
 wirte - Klausurwebinar
DESCRIPTION:
ATTACH;FMTTYPE=image/jpeg:https://daniel-lambert.de/wp-content/uploads/202
 5/03/DL_FrauVorMonitorMitInhalt_400x400.jpg
CATEGORIES:Technische Betriebswirte
END:VEVENT
BEGIN:VTIMEZONE
TZID:Europe/Berlin
X-LIC-LOCATION:Europe/Berlin
BEGIN:DAYLIGHT
DTSTART:20260329T030000
TZOFFSETFROM:+0100
TZOFFSETTO:+0200
TZNAME:CEST
END:DAYLIGHT
END:VTIMEZONE
END:VCALENDAR